Workbook

Sheet Сводка
A1: Еженедельная сводка продаж
A2: Собирается сама из листа «Выгрузка». Данные выдуманные, демо.
A4: Выручка по каналам, ₽
A5: Канал | B5: Неделя 40 | C5: Неделя 41 | D5: Неделя 42 | E5: Неделя 43 | F5: Неделя 44 | G5: К прошлой неделе
A6: Wildberries | B6: =SUMIFS(Выгрузка!$H$2:$H$556,Выгрузка!$C$2:$C$556,"Wildberries",Выгрузка!$B$2:$B$556,40,Выгрузка!$I$2:$I$556,"Выкуплен") | C6: =SUMIFS(Выгрузка!$H$2:$H$556,Выгрузка!$C$2:$C$556,"Wildberries",Выгрузка!$B$2:$B$556,41,Выгрузка!$I$2:$I$556,"Выкуплен") | D6: =SUMIFS(Выгрузка!$H$2:$H$556,Выгрузка!$C$2:$C$556,"Wildberries",Выгрузка!$B$2:$B$556,42,Выгрузка!$I$2:$I$556,"Выкуплен") | E6: =SUMIFS(Выгрузка!$H$2:$H$556,Выгрузка!$C$2:$C$556,"Wildberries",Выгрузка!$B$2:$B$556,43,Выгрузка!$I$2:$I$556,"Выкуплен") | F6: =SUMIFS(Выгрузка!$H$2:$H$556,Выгрузка!$C$2:$C$556,"Wildberries",Выгрузка!$B$2:$B$556,44,Выгрузка!$I$2:$I$556,"Выкуплен") | G6: =IFERROR(F6/E6-1,0)
A7: Ozon | B7: =SUMIFS(Выгрузка!$H$2:$H$556,Выгрузка!$C$2:$C$556,"Ozon",Выгрузка!$B$2:$B$556,40,Выгрузка!$I$2:$I$556,"Выкуплен") | C7: =SUMIFS(Выгрузка!$H$2:$H$556,Выгрузка!$C$2:$C$556,"Ozon",Выгрузка!$B$2:$B$556,41,Выгрузка!$I$2:$I$556,"Выкуплен") | D7: =SUMIFS(Выгрузка!$H$2:$H$556,Выгрузка!$C$2:$C$556,"Ozon",Выгрузка!$B$2:$B$556,42,Выгрузка!$I$2:$I$556,"Выкуплен") | E7: =SUMIFS(Выгрузка!$H$2:$H$556,Выгрузка!$C$2:$C$556,"Ozon",Выгрузка!$B$2:$B$556,43,Выгрузка!$I$2:$I$556,"Выкуплен") | F7: =SUMIFS(Выгрузка!$H$2:$H$556,Выгрузка!$C$2:$C$556,"Ozon",Выгрузка!$B$2:$B$556,44,Выгрузка!$I$2:$I$556,"Выкуплен") | G7: =IFERROR(F7/E7-1,0)
A8: Сайт | B8: =SUMIFS(Выгрузка!$H$2:$H$556,Выгрузка!$C$2:$C$556,"Сайт",Выгрузка!$B$2:$B$556,40,Выгрузка!$I$2:$I$556,"Выкуплен") | C8: =SUMIFS(Выгрузка!$H$2:$H$556,Выгрузка!$C$2:$C$556,"Сайт",Выгрузка!$B$2:$B$556,41,Выгрузка!$I$2:$I$556,"Выкуплен") | D8: =SUMIFS(Выгрузка!$H$2:$H$556,Выгрузка!$C$2:$C$556,"Сайт",Выгрузка!$B$2:$B$556,42,Выгрузка!$I$2:$I$556,"Выкуплен") | E8: =SUMIFS(Выгрузка!$H$2:$H$556,Выгрузка!$C$2:$C$556,"Сайт",Выгрузка!$B$2:$B$556,43,Выгрузка!$I$2:$I$556,"Выкуплен") | F8: =SUMIFS(Выгрузка!$H$2:$H$556,Выгрузка!$C$2:$C$556,"Сайт",Выгрузка!$B$2:$B$556,44,Выгрузка!$I$2:$I$556,"Выкуплен") | G8: =IFERROR(F8/E8-1,0)
A9: Итого | B9: =SUM(B6:B8) | C9: =SUM(C6:C8) | D9: =SUM(D6:D8) | E9: =SUM(E6:E8) | F9: =SUM(F6:F8) | G9: =IFERROR(F9/E9-1,0)
A11: Топ товаров за неделю 44
A12: Товар | B12: Выручка | C12: Возвраты
A13: Термокружка 450 мл | B13: =SUMIFS(Выгрузка!$H$2:$H$556,Выгрузка!$D$2:$D$556,A13,Выгрузка!$B$2:$B$556,44,Выгрузка!$I$2:$I$556,"Выкуплен") | C13: =IFERROR(COUNTIFS(Выгрузка!$D$2:$D$556,A13,Выгрузка!$B$2:$B$556,44,Выгрузка!$I$2:$I$556,"Возврат")/COUNTIFS(Выгрузка!$D$2:$D$556,A13,Выгрузка!$B$2:$B$556,44),0)
A14: Набор контейнеров | B14: =SUMIFS(Выгрузка!$H$2:$H$556,Выгрузка!$D$2:$D$556,A14,Выгрузка!$B$2:$B$556,44,Выгрузка!$I$2:$I$556,"Выкуплен") | C14: =IFERROR(COUNTIFS(Выгрузка!$D$2:$D$556,A14,Выгрузка!$B$2:$B$556,44,Выгрузка!$I$2:$I$556,"Возврат")/COUNTIFS(Выгрузка!$D$2:$D$556,A14,Выгрузка!$B$2:$B$556,44),0)
A15: Плед флисовый | B15: =SUMIFS(Выгрузка!$H$2:$H$556,Выгрузка!$D$2:$D$556,A15,Выгрузка!$B$2:$B$556,44,Выгрузка!$I$2:$I$556,"Выкуплен") | C15: =IFERROR(COUNTIFS(Выгрузка!$D$2:$D$556,A15,Выгрузка!$B$2:$B$556,44,Выгрузка!$I$2:$I$556,"Возврат")/COUNTIFS(Выгрузка!$D$2:$D$556,A15,Выгрузка!$B$2:$B$556,44),0)
A16: Подушка декоративная | B16: =SUMIFS(Выгрузка!$H$2:$H$556,Выгрузка!$D$2:$D$556,A16,Выгрузка!$B$2:$B$556,44,Выгрузка!$I$2:$I$556,"Выкуплен") | C16: =IFERROR(COUNTIFS(Выгрузка!$D$2:$D$556,A16,Выгрузка!$B$2:$B$556,44,Выгрузка!$I$2:$I$556,"Возврат")/COUNTIFS(Выгрузка!$D$2:$D$556,A16,Выгрузка!$B$2:$B$556,44),0)
A17: Органайзер для ящика | B17: =SUMIFS(Выгрузка!$H$2:$H$556,Выгрузка!$D$2:$D$556,A17,Выгрузка!$B$2:$B$556,44,Выгрузка!$I$2:$I$556,"Выкуплен") | C17: =IFERROR(COUNTIFS(Выгрузка!$D$2:$D$556,A17,Выгрузка!$B$2:$B$556,44,Выгрузка!$I$2:$I$556,"Возврат")/COUNTIFS(Выгрузка!$D$2:$D$556,A17,Выгрузка!$B$2:$B$556,44),0)
A18: Корзина плетёная | B18: =SUMIFS(Выгрузка!$H$2:$H$556,Выгрузка!$D$2:$D$556,A18,Выгрузка!$B$2:$B$556,44,Выгрузка!$I$2:$I$556,"Выкуплен") | C18: =IFERROR(COUNTIFS(Выгрузка!$D$2:$D$556,A18,Выгрузка!$B$2:$B$556,44,Выгрузка!$I$2:$I$556,"Возврат")/COUNTIFS(Выгрузка!$D$2:$D$556,A18,Выгрузка!$B$2:$B$556,44),0)
A19: Свеча ароматическая | B19: =SUMIFS(Выгрузка!$H$2:$H$556,Выгрузка!$D$2:$D$556,A19,Выгрузка!$B$2:$B$556,44,Выгрузка!$I$2:$I$556,"Выкуплен") | C19: =IFERROR(COUNTIFS(Выгрузка!$D$2:$D$556,A19,Выгрузка!$B$2:$B$556,44,Выгрузка!$I$2:$I$556,"Возврат")/COUNTIFS(Выгрузка!$D$2:$D$556,A19,Выгрузка!$B$2:$B$556,44),0)
A20: Ваза керамическая | B20: =SUMIFS(Выгрузка!$H$2:$H$556,Выгрузка!$D$2:$D$556,A20,Выгрузка!$B$2:$B$556,44,Выгрузка!$I$2:$I$556,"Выкуплен") | C20: =IFERROR(COUNTIFS(Выгрузка!$D$2:$D$556,A20,Выгрузка!$B$2:$B$556,44,Выгрузка!$I$2:$I$556,"Возврат")/COUNTIFS(Выгрузка!$D$2:$D$556,A20,Выгрузка!$B$2:$B$556,44),0)

Sheet Выгрузка
A1: Дата | B1: Неделя | C1: Канал | D1: Товар | E1: Категория | F1: Кол-во | G1: Цена | H1: Сумма | I1: Статус
A2: 46293 | B2: 40 | C2: Wildberries | D2: Плед флисовый | E2: Текстиль | F2: 1 | G2: 1590 | H2: =F2*G2 | I2: Выкуплен
A3: 46293 | B3: 40 | C3: Wildberries | D3: Набор контейнеров | E3: Посуда | F3: 1 | G3: 1290 | H3: =F3*G3 | I3: Выкуплен
A4: 46293 | B4: 40 | C4: Wildberries | D4: Термокружка 450 мл | E4: Посуда | F4: 1 | G4: 890 | H4: =F4*G4 | I4: Выкуплен
A5: 46293 | B5: 40 | C5: Wildberries | D5: Свеча ароматическая | E5: Декор | F5: 1 | G5: 590 | H5: =F5*G5 | I5: Возврат
A6: 46293 | B6: 40 | C6: Ozon | D6: Термокружка 450 мл | E6: Посуда | F6: 1 | G6: 890 | H6: =F6*G6 | I6: Возврат
A7: 46293 | B7: 40 | C7: Ozon | D7: Термокружка 450 мл | E7: Посуда | F7: 1 | G7: 890 | H7: =F7*G7 | I7: Выкуплен
A8: 46293 | B8: 40 | C8: Ozon | D8: Набор контейнеров | E8: Посуда | F8: 1 | G8: 1290 | H8: =F8*G8 | I8: Выкуплен
A9: 46293 | B9: 40 | C9: Ozon | D9: Набор контейнеров | E9: Посуда | F9: 1 | G9: 1290 | H9: =F9*G9 | I9: Выкуплен
A10: 46293 | B10: 40 | C10: Ozon | D10: Набор контейнеров | E10: Посуда | F10: 1 | G10: 1290 | H10: =F10*G10 | I10: Выкуплен
A11: 46293 | B11: 40 | C11: Ozon | D11: Свеча ароматическая | E11: Декор | F11: 1 | G11: 590 | H11: =F11*G11 | I11: Выкуплен
A12: 46293 | B12: 40 | C12: Wildberries | D12: Корзина плетёная | E12: Хранение | F12: 2 | G12: 1490 | H12: =F12*G12 | I12: Выкуплен
A13: 46293 | B13: 40 | C13: Wildberries | D13: Подушка декоративная | E13: Текстиль | F13: 1 | G13: 990 | H13: =F13*G13 | I13: Выкуплен
... A556: 46327 | B556: 44 | C556: Сайт | D556: Органайзер для ящика | E556: Хранение | F556: 1 | G556: 690 | H556: =F556*G556 | I556: Возврат
